BEGIN:VCALENDAR
VERSION:2.0
PRODID:-//Svanesunds GIF Cykel - ECPv6.15.20//NONSGML v1.0//EN
CALSCALE:GREGORIAN
METHOD:PUBLISH
X-WR-CALNAME:Svanesunds GIF Cykel
X-ORIGINAL-URL:http://cykel.svanesundsgif.se
X-WR-CALDESC:Händelser för Svanesunds GIF Cykel
REFRESH-INTERVAL;VALUE=DURATION:PT1H
X-Robots-Tag:noindex
X-PUBLISHED-TTL:PT1H
BEGIN:VTIMEZONE
TZID:Europe/Stockholm
BEGIN:DAYLIGHT
TZOFFSETFROM:+0100
TZOFFSETTO:+0200
TZNAME:CEST
DTSTART:20210328T010000
END:DAYLIGHT
BEGIN:STANDARD
TZOFFSETFROM:+0200
TZOFFSETTO:+0100
TZNAME:CET
DTSTART:20211031T010000
END:STANDARD
BEGIN:DAYLIGHT
TZOFFSETFROM:+0100
TZOFFSETTO:+0200
TZNAME:CEST
DTSTART:20220327T010000
END:DAYLIGHT
BEGIN:STANDARD
TZOFFSETFROM:+0200
TZOFFSETTO:+0100
TZNAME:CET
DTSTART:20221030T010000
END:STANDARD
BEGIN:DAYLIGHT
TZOFFSETFROM:+0100
TZOFFSETTO:+0200
TZNAME:CEST
DTSTART:20230326T010000
END:DAYLIGHT
BEGIN:STANDARD
TZOFFSETFROM:+0200
TZOFFSETTO:+0100
TZNAME:CET
DTSTART:20231029T010000
END:STANDARD
END:VTIMEZONE
BEGIN:VEVENT
DTSTART;TZID=Europe/Stockholm:20220828T080000
DTEND;TZID=Europe/Stockholm:20220828T160000
DTSTAMP:20260421T165540
CREATED:20220825T171009Z
LAST-MODIFIED:20220825T171009Z
UID:310-1661673600-1661702400@cykel.svanesundsgif.se
SUMMARY:Svanesunds 3-dagars Etapp 4
DESCRIPTION:Linjeloppet avslutar 3-dagars\n\nLinjeloppet avslutar 3-dagars i Svanesund. Linjeloppet körs på en varvbana som mäter 18 km.
URL:http://cykel.svanesundsgif.se/event/svanesunds-3-dagars-etapp-4-2/
END:VEVENT
END:VCALENDAR