BEGIN:VCALENDAR
VERSION:2.0
PRODID:-//Svanesunds GIF Cykel - ECPv6.15.20//NONSGML v1.0//EN
CALSCALE:GREGORIAN
METHOD:PUBLISH
X-WR-CALNAME:Svanesunds GIF Cykel
X-ORIGINAL-URL:http://cykel.svanesundsgif.se
X-WR-CALDESC:Händelser för Svanesunds GIF Cykel
REFRESH-INTERVAL;VALUE=DURATION:PT1H
X-Robots-Tag:noindex
X-PUBLISHED-TTL:PT1H
BEGIN:VTIMEZONE
TZID:Europe/Stockholm
BEGIN:DAYLIGHT
TZOFFSETFROM:+0100
TZOFFSETTO:+0200
TZNAME:CEST
DTSTART:20210328T010000
END:DAYLIGHT
BEGIN:STANDARD
TZOFFSETFROM:+0200
TZOFFSETTO:+0100
TZNAME:CET
DTSTART:20211031T010000
END:STANDARD
BEGIN:DAYLIGHT
TZOFFSETFROM:+0100
TZOFFSETTO:+0200
TZNAME:CEST
DTSTART:20220327T010000
END:DAYLIGHT
BEGIN:STANDARD
TZOFFSETFROM:+0200
TZOFFSETTO:+0100
TZNAME:CET
DTSTART:20221030T010000
END:STANDARD
BEGIN:DAYLIGHT
TZOFFSETFROM:+0100
TZOFFSETTO:+0200
TZNAME:CEST
DTSTART:20230326T010000
END:DAYLIGHT
BEGIN:STANDARD
TZOFFSETFROM:+0200
TZOFFSETTO:+0100
TZNAME:CET
DTSTART:20231029T010000
END:STANDARD
END:VTIMEZONE
BEGIN:VEVENT
DTSTART;TZID=Europe/Stockholm:20220910T100000
DTEND;TZID=Europe/Stockholm:20220910T113000
DTSTAMP:20260421T150821
CREATED:20220829T172209Z
LAST-MODIFIED:20220829T172209Z
UID:312-1662804000-1662809400@cykel.svanesundsgif.se
SUMMARY:MTB-cykling för barn
DESCRIPTION:Barn i åldrarna 6 – 14 år plus föräldrar\, är välkomna att cykla mountainbike med oss! \n• Cykelhjälm är ett krav.\n• Vattenflaska och handskar rekommenderas.\n• Ingen deltagaravgift\, ingen föranmälan. \nFöreningen har några fina lånecyklar som är till för att användas av barnen (storlek 20” och 24”). Passar bra om ni vill testa på mountainbike innan ni köper egen cykel eller för att testa ny storlek. Hör av er några dagar innan om ni önskar låna en under träningen. \nKontakta ledare vid frågor eller för att boka lånecykel!\nMattias Nelson 0706-77 54 57\nSören Ljunggren 0702-22 56 54 \nVårt motto: ”Alla ska få vara med och ha roligt!”
URL:http://cykel.svanesundsgif.se/event/mtb-cykling-for-barn-3/
LOCATION:Svanhallen\, Svanesund\, Fridängsvägen 5\, Svanesund\, Sverige
END:VEVENT
END:VCALENDAR