BEGIN:VCALENDAR
VERSION:2.0
PRODID:-//Svanesunds GIF Cykel - ECPv6.15.20//NONSGML v1.0//EN
CALSCALE:GREGORIAN
METHOD:PUBLISH
X-ORIGINAL-URL:http://cykel.svanesundsgif.se
X-WR-CALDESC:Händelser för Svanesunds GIF Cykel
REFRESH-INTERVAL;VALUE=DURATION:PT1H
X-Robots-Tag:noindex
X-PUBLISHED-TTL:PT1H
BEGIN:VTIMEZONE
TZID:Europe/Stockholm
BEGIN:DAYLIGHT
TZOFFSETFROM:+0100
TZOFFSETTO:+0200
TZNAME:CEST
DTSTART:20230326T010000
END:DAYLIGHT
BEGIN:STANDARD
TZOFFSETFROM:+0200
TZOFFSETTO:+0100
TZNAME:CET
DTSTART:20231029T010000
END:STANDARD
BEGIN:DAYLIGHT
TZOFFSETFROM:+0100
TZOFFSETTO:+0200
TZNAME:CEST
DTSTART:20240331T010000
END:DAYLIGHT
BEGIN:STANDARD
TZOFFSETFROM:+0200
TZOFFSETTO:+0100
TZNAME:CET
DTSTART:20241027T010000
END:STANDARD
BEGIN:DAYLIGHT
TZOFFSETFROM:+0100
TZOFFSETTO:+0200
TZNAME:CEST
DTSTART:20250330T010000
END:DAYLIGHT
BEGIN:STANDARD
TZOFFSETFROM:+0200
TZOFFSETTO:+0100
TZNAME:CET
DTSTART:20251026T010000
END:STANDARD
END:VTIMEZONE
BEGIN:VEVENT
DTSTART;TZID=Europe/Stockholm:20240823T160000
DTEND;TZID=Europe/Stockholm:20240825T170000
DTSTAMP:20260420T213424
CREATED:20240421T083429Z
LAST-MODIFIED:20240421T083429Z
UID:391-1724428800-1724605200@cykel.svanesundsgif.se
SUMMARY:Svanesunds 3-dagars
DESCRIPTION:Se mer här Svanesunds 3-dagars
URL:http://cykel.svanesundsgif.se/event/svanesunds-3-dagars/
LOCATION:Svanesund\, Sverige
END:VEVENT
END:VCALENDAR