BEGIN:VCALENDAR
VERSION:2.0
PRODID:-//Svanesunds GIF Cykel - ECPv6.15.20//NONSGML v1.0//EN
CALSCALE:GREGORIAN
METHOD:PUBLISH
X-WR-CALNAME:Svanesunds GIF Cykel
X-ORIGINAL-URL:http://cykel.svanesundsgif.se
X-WR-CALDESC:Händelser för Svanesunds GIF Cykel
REFRESH-INTERVAL;VALUE=DURATION:PT1H
X-Robots-Tag:noindex
X-PUBLISHED-TTL:PT1H
BEGIN:VTIMEZONE
TZID:Europe/Stockholm
BEGIN:DAYLIGHT
TZOFFSETFROM:+0100
TZOFFSETTO:+0200
TZNAME:CEST
DTSTART:20210328T010000
END:DAYLIGHT
BEGIN:STANDARD
TZOFFSETFROM:+0200
TZOFFSETTO:+0100
TZNAME:CET
DTSTART:20211031T010000
END:STANDARD
BEGIN:DAYLIGHT
TZOFFSETFROM:+0100
TZOFFSETTO:+0200
TZNAME:CEST
DTSTART:20220327T010000
END:DAYLIGHT
BEGIN:STANDARD
TZOFFSETFROM:+0200
TZOFFSETTO:+0100
TZNAME:CET
DTSTART:20221030T010000
END:STANDARD
BEGIN:DAYLIGHT
TZOFFSETFROM:+0100
TZOFFSETTO:+0200
TZNAME:CEST
DTSTART:20230326T010000
END:DAYLIGHT
BEGIN:STANDARD
TZOFFSETFROM:+0200
TZOFFSETTO:+0100
TZNAME:CET
DTSTART:20231029T010000
END:STANDARD
END:VTIMEZONE
BEGIN:VEVENT
DTSTART;TZID=Europe/Stockholm:20220826T170000
DTEND;TZID=Europe/Stockholm:20220826T200000
DTSTAMP:20260421T150817
CREATED:20220825T170533Z
LAST-MODIFIED:20220825T170533Z
UID:304-1661533200-1661544000@cykel.svanesundsgif.se
SUMMARY:Svanesunds 3-dagars Etapp 1
DESCRIPTION:Bergstempot prolog\n\nBergstempot är första etappen i Svanesunds 3-dagars. Den körs som en kort prolog i tempoform.
URL:http://cykel.svanesundsgif.se/event/svanesunds-3-dagars-etapp-1-2/
END:VEVENT
BEGIN:VEVENT
DTSTART;TZID=Europe/Stockholm:20220827T080000
DTEND;TZID=Europe/Stockholm:20220827T123000
DTSTAMP:20260421T150817
CREATED:20220825T170722Z
LAST-MODIFIED:20220825T170722Z
UID:306-1661587200-1661603400@cykel.svanesundsgif.se
SUMMARY:Svanesunds 3-dagars Etapp 2
DESCRIPTION:En snabb GP-bana\n\nSvanesunds Grand Prix är en snabb varvbana där det gäller att vara med från start eftersom det ges lite utrymme för omkörning i de smala passagerna. Banan ligger centralt belägen i Svanesund.
URL:http://cykel.svanesundsgif.se/event/svanesunds-3-dagars-etapp-2-2/
END:VEVENT
BEGIN:VEVENT
DTSTART;TZID=Europe/Stockholm:20220827T160000
DTEND;TZID=Europe/Stockholm:20220827T190000
DTSTAMP:20260421T150817
CREATED:20220825T170851Z
LAST-MODIFIED:20220825T170851Z
UID:308-1661616000-1661626800@cykel.svanesundsgif.se
SUMMARY:Svanesunds 3-dagars Etapp 3
DESCRIPTION:Tempolopp i natursköna omgivningar\n\nAndra dagen på eftermiddagen körs ett tempolopp i ett böljande landskap några kilometer norr om Svanesund.
URL:http://cykel.svanesundsgif.se/event/svanesunds-3-dagars-etapp-3-2/
END:VEVENT
BEGIN:VEVENT
DTSTART;TZID=Europe/Stockholm:20220828T080000
DTEND;TZID=Europe/Stockholm:20220828T160000
DTSTAMP:20260421T150817
CREATED:20220825T171009Z
LAST-MODIFIED:20220825T171009Z
UID:310-1661673600-1661702400@cykel.svanesundsgif.se
SUMMARY:Svanesunds 3-dagars Etapp 4
DESCRIPTION:Linjeloppet avslutar 3-dagars\n\nLinjeloppet avslutar 3-dagars i Svanesund. Linjeloppet körs på en varvbana som mäter 18 km.
URL:http://cykel.svanesundsgif.se/event/svanesunds-3-dagars-etapp-4-2/
END:VEVENT
END:VCALENDAR