BEGIN:VCALENDAR
VERSION:2.0
PRODID:-//Svanesunds GIF Cykel - ECPv6.15.20//NONSGML v1.0//EN
CALSCALE:GREGORIAN
METHOD:PUBLISH
X-WR-CALNAME:Svanesunds GIF Cykel
X-ORIGINAL-URL:http://cykel.svanesundsgif.se
X-WR-CALDESC:Händelser för Svanesunds GIF Cykel
REFRESH-INTERVAL;VALUE=DURATION:PT1H
X-Robots-Tag:noindex
X-PUBLISHED-TTL:PT1H
BEGIN:VTIMEZONE
TZID:Europe/Stockholm
BEGIN:DAYLIGHT
TZOFFSETFROM:+0100
TZOFFSETTO:+0200
TZNAME:CEST
DTSTART:20220327T010000
END:DAYLIGHT
BEGIN:STANDARD
TZOFFSETFROM:+0200
TZOFFSETTO:+0100
TZNAME:CET
DTSTART:20221030T010000
END:STANDARD
BEGIN:DAYLIGHT
TZOFFSETFROM:+0100
TZOFFSETTO:+0200
TZNAME:CEST
DTSTART:20230326T010000
END:DAYLIGHT
BEGIN:STANDARD
TZOFFSETFROM:+0200
TZOFFSETTO:+0100
TZNAME:CET
DTSTART:20231029T010000
END:STANDARD
BEGIN:DAYLIGHT
TZOFFSETFROM:+0100
TZOFFSETTO:+0200
TZNAME:CEST
DTSTART:20240331T010000
END:DAYLIGHT
BEGIN:STANDARD
TZOFFSETFROM:+0200
TZOFFSETTO:+0100
TZNAME:CET
DTSTART:20241027T010000
END:STANDARD
END:VTIMEZONE
BEGIN:VEVENT
DTSTART;TZID=Europe/Stockholm:20230603T080000
DTEND;TZID=Europe/Stockholm:20230603T170000
DTSTAMP:20260420T212751
CREATED:20230204T094054Z
LAST-MODIFIED:20230204T094615Z
UID:336-1685779200-1685811600@cykel.svanesundsgif.se
SUMMARY:Orust MTB-Giro 2023
DESCRIPTION:https://orustmtbgiro.se/
URL:http://cykel.svanesundsgif.se/event/orust-mtb-giro-2023/
END:VEVENT
BEGIN:VEVENT
DTSTART;TZID=Europe/Stockholm:20230604T080000
DTEND;TZID=Europe/Stockholm:20230604T170000
DTSTAMP:20260420T212751
CREATED:20230204T094305Z
LAST-MODIFIED:20230204T094305Z
UID:338-1685865600-1685898000@cykel.svanesundsgif.se
SUMMARY:Orust Runt 2023
DESCRIPTION:https://orustrunt.se/
URL:http://cykel.svanesundsgif.se/event/orust-runt-2023/
END:VEVENT
END:VCALENDAR