BEGIN:VCALENDAR
VERSION:2.0
PRODID:-//Svanesunds GIF Cykel - ECPv6.15.20//NONSGML v1.0//EN
CALSCALE:GREGORIAN
METHOD:PUBLISH
X-ORIGINAL-URL:http://cykel.svanesundsgif.se
X-WR-CALDESC:Händelser för Svanesunds GIF Cykel
REFRESH-INTERVAL;VALUE=DURATION:PT1H
X-Robots-Tag:noindex
X-PUBLISHED-TTL:PT1H
BEGIN:VTIMEZONE
TZID:Europe/Stockholm
BEGIN:DAYLIGHT
TZOFFSETFROM:+0100
TZOFFSETTO:+0200
TZNAME:CEST
DTSTART:20230326T010000
END:DAYLIGHT
BEGIN:STANDARD
TZOFFSETFROM:+0200
TZOFFSETTO:+0100
TZNAME:CET
DTSTART:20231029T010000
END:STANDARD
BEGIN:DAYLIGHT
TZOFFSETFROM:+0100
TZOFFSETTO:+0200
TZNAME:CEST
DTSTART:20240331T010000
END:DAYLIGHT
BEGIN:STANDARD
TZOFFSETFROM:+0200
TZOFFSETTO:+0100
TZNAME:CET
DTSTART:20241027T010000
END:STANDARD
BEGIN:DAYLIGHT
TZOFFSETFROM:+0100
TZOFFSETTO:+0200
TZNAME:CEST
DTSTART:20250330T010000
END:DAYLIGHT
BEGIN:STANDARD
TZOFFSETFROM:+0200
TZOFFSETTO:+0100
TZNAME:CET
DTSTART:20251026T010000
END:STANDARD
END:VTIMEZONE
BEGIN:VEVENT
DTSTART;TZID=Europe/Stockholm:20240602T100000
DTEND;TZID=Europe/Stockholm:20240602T113000
DTSTAMP:20260420T093545
CREATED:20240421T082206Z
LAST-MODIFIED:20240421T082206Z
UID:374-1717322400-1717327800@cykel.svanesundsgif.se
SUMMARY:MTB-cykling för barn
DESCRIPTION:Barn i åldrarna 6 – 14 år plus föräldrar\, är välkomna att cykla mountainbike med oss!\nFörälder eller annan vuxen följer med och stöttar sitt/sina barn under träningarna. De större barnen som varit med några år klarar sig oftast bra utan hjälp – men alla vuxna är välkomna! \n• Cykelhjälm är ett krav.\n• Vattenflaska och handskar rekommenderas.\n• Ingen deltagaravgift\, ingen föranmälan. \nFöreningen har fina lånecyklar till barn (storlek 20” och 24”). Passar bra om ni vill testa på mountainbike innan ni köper egen cykel eller för att testa ny storlek. \nKontakta ledare vid frågor eller för att boka lånecykel.\nMattias Nelson 0706-77 54 57\nSören Ljunggren 0702-22 56 54 \nVårt motto: ”Alla ska få vara med och ha roligt!”
URL:http://cykel.svanesundsgif.se/event/mtb-cykling-for-barn-15/
LOCATION:Berga\, Svanesund\, Sverige
END:VEVENT
BEGIN:VEVENT
DTSTART;TZID=Europe/Stockholm:20240604T173000
DTEND;TZID=Europe/Stockholm:20240604T183000
DTSTAMP:20260420T093545
CREATED:20240421T082240Z
LAST-MODIFIED:20240421T082240Z
UID:377-1717522200-1717525800@cykel.svanesundsgif.se
SUMMARY:MTB-cykling för barn
DESCRIPTION:Barn i åldrarna 6 – 14 år plus föräldrar\, är välkomna att cykla mountainbike med oss!\nFörälder eller annan vuxen följer med och stöttar sitt/sina barn under träningarna. De större barnen som varit med några år klarar sig oftast bra utan hjälp – men alla vuxna är välkomna! \n• Cykelhjälm är ett krav.\n• Vattenflaska och handskar rekommenderas.\n• Ingen deltagaravgift\, ingen föranmälan. \nFöreningen har fina lånecyklar till barn (storlek 20” och 24”). Passar bra om ni vill testa på mountainbike innan ni köper egen cykel eller för att testa ny storlek. \nKontakta ledare vid frågor eller för att boka lånecykel.\nMattias Nelson 0706-77 54 57\nSören Ljunggren 0702-22 56 54 \nVårt motto: ”Alla ska få vara med och ha roligt!”
URL:http://cykel.svanesundsgif.se/event/mtb-cykling-for-barn-16/
LOCATION:Vattentornet\, Svanesund
END:VEVENT
BEGIN:VEVENT
DTSTART;TZID=Europe/Stockholm:20240608T073000
DTEND;TZID=Europe/Stockholm:20240608T153000
DTSTAMP:20260420T093545
CREATED:20240421T082946Z
LAST-MODIFIED:20240421T082946Z
UID:387-1717831800-1717860600@cykel.svanesundsgif.se
SUMMARY:Orust MTB-Giro
DESCRIPTION:Se mer här Orust MTB-Giro
URL:http://cykel.svanesundsgif.se/event/orust-mtb-giro/
LOCATION:Orust MTB-Giro\, Svanesund\, Sverige
END:VEVENT
BEGIN:VEVENT
DTSTART;TZID=Europe/Stockholm:20240608T110000
DTEND;TZID=Europe/Stockholm:20240608T123000
DTSTAMP:20260420T093545
CREATED:20240421T082340Z
LAST-MODIFIED:20240421T082340Z
UID:379-1717844400-1717849800@cykel.svanesundsgif.se
SUMMARY:MTB-cykling för barn
DESCRIPTION:Barn i åldrarna 6 – 14 år plus föräldrar\, är välkomna att cykla mountainbike med oss!\nFörälder eller annan vuxen följer med och stöttar sitt/sina barn under träningarna. De större barnen som varit med några år klarar sig oftast bra utan hjälp – men alla vuxna är välkomna! \n• Cykelhjälm är ett krav.\n• Vattenflaska och handskar rekommenderas.\n• Ingen deltagaravgift\, ingen föranmälan. \nFöreningen har fina lånecyklar till barn (storlek 20” och 24”). Passar bra om ni vill testa på mountainbike innan ni köper egen cykel eller för att testa ny storlek. \nKontakta ledare vid frågor eller för att boka lånecykel.\nMattias Nelson 0706-77 54 57\nSören Ljunggren 0702-22 56 54 \nVårt motto: ”Alla ska få vara med och ha roligt!”
URL:http://cykel.svanesundsgif.se/event/mtb-cykling-for-barn-17/
LOCATION:Orust MTB-Giro\, Svanesund\, Sverige
END:VEVENT
BEGIN:VEVENT
DTSTART;TZID=Europe/Stockholm:20240609T070000
DTEND;TZID=Europe/Stockholm:20240609T150000
DTSTAMP:20260420T093545
CREATED:20240421T083138Z
LAST-MODIFIED:20240421T083138Z
UID:389-1717916400-1717945200@cykel.svanesundsgif.se
SUMMARY:Orust Runt
DESCRIPTION:Se mer här Orust Runt
URL:http://cykel.svanesundsgif.se/event/orust-runt/
LOCATION:Svanhallen\, Svanesund\, Fridängsvägen 5\, Svanesund\, Sverige
END:VEVENT
BEGIN:VEVENT
DTSTART;TZID=Europe/Stockholm:20240611T173000
DTEND;TZID=Europe/Stockholm:20240611T183000
DTSTAMP:20260420T093545
CREATED:20240421T082420Z
LAST-MODIFIED:20240421T082420Z
UID:382-1718127000-1718130600@cykel.svanesundsgif.se
SUMMARY:MTB-cykling för barn
DESCRIPTION:Barn i åldrarna 6 – 14 år plus föräldrar\, är välkomna att cykla mountainbike med oss!\nFörälder eller annan vuxen följer med och stöttar sitt/sina barn under träningarna. De större barnen som varit med några år klarar sig oftast bra utan hjälp – men alla vuxna är välkomna! \n• Cykelhjälm är ett krav.\n• Vattenflaska och handskar rekommenderas.\n• Ingen deltagaravgift\, ingen föranmälan. \nFöreningen har fina lånecyklar till barn (storlek 20” och 24”). Passar bra om ni vill testa på mountainbike innan ni köper egen cykel eller för att testa ny storlek. \nKontakta ledare vid frågor eller för att boka lånecykel.\nMattias Nelson 0706-77 54 57\nSören Ljunggren 0702-22 56 54 \nVårt motto: ”Alla ska få vara med och ha roligt!”
URL:http://cykel.svanesundsgif.se/event/mtb-cykling-for-barn-18/
LOCATION:Vattentornet\, Svanesund
END:VEVENT
BEGIN:VEVENT
DTSTART;TZID=Europe/Stockholm:20240616T100000
DTEND;TZID=Europe/Stockholm:20240616T120000
DTSTAMP:20260420T093545
CREATED:20240421T082601Z
LAST-MODIFIED:20240421T082601Z
UID:384-1718532000-1718539200@cykel.svanesundsgif.se
SUMMARY:MTB-cykling för barn
DESCRIPTION:Avslutning! \nBarn i åldrarna 6 – 14 år plus föräldrar\, är välkomna att cykla mountainbike med oss!\nFörälder eller annan vuxen följer med och stöttar sitt/sina barn under träningarna. De större barnen som varit med några år klarar sig oftast bra utan hjälp – men alla vuxna är välkomna! \n• Cykelhjälm är ett krav.\n• Vattenflaska och handskar rekommenderas.\n• Ingen deltagaravgift\, ingen föranmälan. \nFöreningen har fina lånecyklar till barn (storlek 20” och 24”). Passar bra om ni vill testa på mountainbike innan ni köper egen cykel eller för att testa ny storlek. \nKontakta ledare vid frågor eller för att boka lånecykel.\nMattias Nelson 0706-77 54 57\nSören Ljunggren 0702-22 56 54 \nVårt motto: ”Alla ska få vara med och ha roligt!”
URL:http://cykel.svanesundsgif.se/event/mtb-cykling-for-barn-19/
LOCATION:Bredfjället\, Ljungskile\, Sverige
END:VEVENT
END:VCALENDAR